Workbook
Name CountUnique: _xlfn.LAMBDA(_xlpm.Range,COUNT(_xlfn.UNIQUE(_xlpm.Range)))
Name DISTINCTCOUNT: _xlfn.LAMBDA(_xlpm.Range,COUNTA(_xlfn.UNIQUE(_xlpm.Range)))
Name Sampling_status: [1]Control_sheet!$A$2:$A$9
Name TextClean: #REF!

Sheet Tables
A1: Make this into a table
L2: Table exercises
A3: Ref | B3: Movie | C3: Cinema | D3: Boys | E3: Men | F3: Males | G3: Girls | H3: Women | I3: Females | L3: 1 | M3: Clear formats
A4: 1 | B4: Scary Movie 6 | C4: Sorya | D4: 16 | E4: 6 | F4: =SUM(D4:E4) -> 22 | G4: 5 | H4: 0 | I4: =Movie_Data[[#This Row],[Girls]]+Movie_Data[[#This Row],[Women]] -> 5 | L4: 2 | M4: Make your data into a Table
A5: 2 | B5: Masters of the Universe | C5: Sorya | D5: 13 | E5: 7 | F5: =SUM(D5:E5) -> 20 | G5: 19 | H5: 8 | I5: =Movie_Data[[#This Row],[Girls]]+Movie_Data[[#This Row],[Women]] -> 27 | L5: 3 | M5: Create a yellow table
A6: 3 | B6: Power Ballad | C6: City | D6: 7 | E6: 13 | F6: =SUM(D6:E6) -> 20 | G6: 11 | H6: 4 | I6: =Movie_Data[[#This Row],[Girls]]+Movie_Data[[#This Row],[Women]] -> 15 | L6: 4 | M6: Untick "banded rows"
A7: 4 | B7: Disclosure Day | C7: Aeon | D7: 2 | E7: 17 | F7: =SUM(D7:E7) -> 19 | G7: 3 | H7: 4 | I7: =Movie_Data[[#This Row],[Girls]]+Movie_Data[[#This Row],[Women]] -> 7 | L7: 5 | M7: Scroll down! & see freeze panes.
A8: 5 | B8: The Furious | C8: Aon | D8: 13 | E8: 6 | F8: =SUM(D8:E8) -> 19 | G8: 19 | H8: 4 | I8: =Movie_Data[[#This Row],[Girls]]+Movie_Data[[#This Row],[Women]] -> 23 | L8: 6 | M8: Add females column & calculate (Girls + Women)
A9: 6 | B9: Toy Story 5 | C9: City | D9: 8 | E9: 17 | F9: =SUM(D9:E9) -> 25 | G9: 16 | H9: 6 | I9: =Movie_Data[[#This Row],[Girls]]+Movie_Data[[#This Row],[Women]] -> 22 | K9: =SUM(Movie_Data[Girls]) -> 330 | L9: 7 | M9: Create SUM formula for total girls
A10: 7 | B10: The Death of Robin Hood | C10: Aeon | D10: 18 | E10: 6 | F10: =SUM(D10:E10) -> 24 | G10: 15 | H10: 17 | I10: =Movie_Data[[#This Row],[Girls]]+Movie_Data[[#This Row],[Women]] -> 32 | L10: 8 | M10: Rename the table to Movie_Data
A11: 8 | B11: Supergirl | C11: Aeon | D11: 14 | E11: 15 | F11: =SUM(D11:E11) -> 29 | G11: 30 | H11: 24 | I11: =Movie_Data[[#This Row],[Girls]]+Movie_Data[[#This Row],[Women]] -> 54 | K11: Total
A12: 9 | B12: Jackass: Best And Last | C12: Aeon | D12: 14 | E12: 10 | F12: =SUM(D12:E12) -> 24 | G12: 15 | H12: 22 | I12: =Movie_Data[[#This Row],[Girls]]+Movie_Data[[#This Row],[Women]] -> 37 | K12: =SUM(Table2[Girls]) -> 227
A13: 10 | B13: The Invite | C13: City | D13: 15 | E13: 26 | F13: =SUM(D13:E13) -> 41 | G13: 14 | H13: 28 | I13: =Movie_Data[[#This Row],[Girls]]+Movie_Data[[#This Row],[Women]] -> 42
A14: 11 | B14: Couture | C14: City | D14: 21 | E14: 9 | F14: =SUM(D14:E14) -> 30 | G14: 4 | H14: 12 | I14: =Movie_Data[[#This Row],[Girls]]+Movie_Data[[#This Row],[Women]] -> 16 | K14: Girls
A15: 12 | B15: Girls Like Girls | C15: Sorya | D15: 16 | E15: 29 | F15: =SUM(D15:E15) -> 45 | G15: 29 | H15: 5 | I15: =Movie_Data[[#This Row],[Girls]]+Movie_Data[[#This Row],[Women]] -> 34 | K15: 5
A16: 13 | B16: Disclosure Day | C16: Aeon | D16: 19 | E16: 21 | F16: =SUM(D16:E16) -> 40 | G16: 15 | H16: 19 | I16: =Movie_Data[[#This Row],[Girls]]+Movie_Data[[#This Row],[Women]] -> 34 | K16: 19
A17: 14 | B17: Masters of the Universe | C17: Aeon | D17: 12 | E17: 21 | F17: =SUM(D17:E17) -> 33 | G17: 4 | H17: 19 | I17: =Movie_Data[[#This Row],[Girls]]+Movie_Data[[#This Row],[Women]] -> 23 | K17: 11
A18: 15 | B18: Scary Movie 6 | C18: Sorya | D18: 27 | E18: 15 | F18: =SUM(D18:E18) -> 42 | G18: 13 | H18: 20 | I18: =Movie_Data[[#This Row],[Girls]]+Movie_Data[[#This Row],[Women]] -> 33 | K18: 3
A19: 16 | B19: Toy Story 5 | C19: City | D19: 13 | E19: 4 | F19: =SUM(D19:E19) -> 17 | G19: 6 | H19: 30 | I19: =Movie_Data[[#This Row],[Girls]]+Movie_Data[[#This Row],[Women]] -> 36 | K19: 23
A20: 17 | B20: Power Ballad | C20: Aeon | D20: 18 | E20: 11 | F20: =SUM(D20:E20) -> 29 | G20: 27 | H20: 16 | I20: =Movie_Data[[#This Row],[Girls]]+Movie_Data[[#This Row],[Women]] -> 43 | K20: 43
A21: 18 | B21: The Furious | C21: Sorya | D21: 19 | E21: 28 | F21: =SUM(D21:E21) -> 47 | G21: 5 | H21: 21 | I21: =Movie_Data[[#This Row],[Girls]]+Movie_Data[[#This Row],[Women]] -> 26 | K21: 32
A22: 19 | B22: The Death of Robin Hood | C22: City | D22: 7 | E22: 11 | F22: =SUM(D22:E22) -> 18 | G22: 22 | H22: 33 | I22: =Movie_Data[[#This Row],[Girls]]+Movie_Data[[#This Row],[Women]] -> 55 | K22: 24
A23: 20 | B23: Extra | C23: Aeon | D23: 8 | E23: 24 | F23: =SUM(D23:E23) -> 32 | G23: 33 | H23: 21 | I23: =Movie_Data[[#This Row],[Girls]]+Movie_Data[[#This Row],[Women]] -> 54 | K23: 12
A24: 21 | B24: Couture | C24: Aeon | D24: 3 | E24: 30 | F24: =SUM(D24:E24) -> 33 | G24: 25 | H24: 20 | I24: =Movie_Data[[#This Row],[Girls]]+Movie_Data[[#This Row],[Women]] -> 45 | K24: 32
K25: 23
A27: Ref | B27: Movie | C27: Cinema | D27: Boys | E27: Men | F27: Males | G27: Girls | H27: Women | L27: Formula exercises
A28: 1 | B28: Scary Movie 6 | C28: Galaxy | D28: 12 | E28: 8 | F28: 20 | G28: 10 | H28: 5 | L28: 1 | M28: Combine tables with VSTACK
A29: 2 | B29: Masters of the Universe | C29: Regal | D29: 15 | E29: 10 | F29: 25 | G29: 8 | H29: 12 | L29: 2 | M29: Use XLOOKUP to get price
A30: 3 | B30: Power Ballad | C30: IMAX Central | D30: 9 | E30: 14 | F30: 23 | G30: 15 | H30: 9
A31: 4 | B31: Disclosure Day | C31: Galaxy | D31: 11 | E31: 18 | F31: 29 | G31: 7 | H31: 11
A32: 5 | B32: The Furious | C32: Regal | D32: 20 | E32: 12 | F32: 32 | G32: 14 | H32: 8
A33: 6 | B33: Toy Story 5 | C33: IMAX Central | D33: 6 | E33: 9 | F33: 15 | G33: 22 | H33: 18
A35: VSTACK
A36: {=_xlfn.VSTACK(Movie_Data[[#All],[Ref]:[Women]],A28:G33)} -> Ref | B36: Movie | C36: Cinema | D36: Boys | E36: Men | F36: Males | G36: Girls | H36: Women | I36: Price | K36: Cinema | L36: Price
A37: 1 | B37: Scary Movie 6 | C37: Sorya | D37: 16 | E37: 6 | F37: 22 | G37: 5 | H37: 0 | I37: =_xlfn.XLOOKUP(C37,$K$37:$K$42,$L$37:$L$42,0) -> 3 | K37: Sorya | L37: 3
A38: 2 | B38: Masters of the Universe | C38: Sorya | D38: 13 | E38: 7 | F38: 20 | G38: 19 | H38: 8 | I38: =_xlfn.XLOOKUP(C38,$K$37:$K$42,$L$37:$L$42,0) -> 3 | K38: City | L38: 3.5
A39: 3 | B39: Power Ballad | C39: City | D39: 7 | E39: 13 | F39: 20 | G39: 11 | H39: 4 | I39: =_xlfn.XLOOKUP(C39,$K$37:$K$42,$L$37:$L$42,0) -> 3.5 | K39: Aeon | L39: 3.3
A40: 4 | B40: Disclosure Day | C40: Aeon | D40: 2 | E40: 17 | F40: 19 | G40: 3 | H40: 4 | I40: =_xlfn.XLOOKUP(C40,$K$37:$K$42,$L$37:$L$42,0) -> 3.3 | K40: Galaxy | L40: 2.3
A41: 5 | B41: The Furious | C41: Aon | D41: 13 | E41: 6 | F41: 19 | G41: 19 | H41: 4 | I41: =_xlfn.XLOOKUP(C41,$K$37:$K$42,$L$37:$L$42,0) -> 0 | K41: Regal | L41: 2.7
A42: 6 | B42: Toy Story 5 | C42: City | D42: 8 | E42: 17 | F42: 25 | G42: 16 | H42: 6 | I42: =_xlfn.XLOOKUP(C42,$K$37:$K$42,$L$37:$L$42,0) -> 3.5 | K42: IMAX Central | L42: 3
...

Sheet Copilot edit mode 
A3: City | B3: Singer | C3: US Date | D3: Sales | E3: Gender | F3: Satisfaction | G3: Extras | H3: Comments | J3: Cleaning Steps
A4: London | B4: Britney Spears | C4: 44740 | D4: 570000 | E4: Male | F4: High | G4: Opening act | I4: =_xlfn.TRANSLATE(G4) -> Opening act | J4: 1. Fixed city casing (e.g., MancheSTer → Manchester)
A5: London | B5: Britney Spears | C5: 44062 | D5: 525000 | E5: Male | F5: Low | G5: Intermission | I5: =_xlfn.TRANSLATE(G5) -> Intermission | J5: 2. Standardised Gender (Woman → Female, M → Male)
A6: Manchester | B6: Britney Spears | C6: 43438 | D6: 141000 | E6: Female | F6: Low | G6: Dancers | H6: How did the mic break? | I6: =_xlfn.TRANSLATE(G6) -> Dancers | J6: 3. Fixed Sales typos (141o00 → 141000, spaces removed)
A7: Glasgow | B7: Britney Spears | C7: 44462 | D7: 204000 | E7: Male | F7: Low | G7: Intermission | I7: =_xlfn.TRANSLATE(G7) -> Intermission | J7: 4. Corrected spelling (Danceurs → Danseurs)
A8: Glasgow | B8: Beyonce | C8: 43676 | D8: 235000 | E8: Male | F8: Low | G8: No backup | I8: =_xlfn.TRANSLATE(G8) -> No backup | J8: 5. Note: 'Bratney Spears' may be a typo for 'Britney Spears'
A9: Glasgow | B9: Britney Spears | C9: 44528 | D9: 72000 | E9: Female | F9: Med | G9: Opening act | H9: Long wait | I9: =_xlfn.TRANSLATE(G9) -> Opening act
A10: Manchester | B10: Britney Spears | C10: 43435 | D10: 245000 | E10: Female | F10: Med | G10: Opening act | I10: =_xlfn.TRANSLATE(G10) -> Opening act
A11: Glasgow | B11: Britney Spears | C11: 43857 | D11: 155000 | E11: Female | F11: High | G11: No backup | I11: =_xlfn.TRANSLATE(G11) -> No backup
A12: Glasgow | B12: Britney Spears | C12: 43928 | D12: 650000 | E12: Female | F12: Med | G12: Dancers | I12: =_xlfn.TRANSLATE(G12) -> Dancers
A13: Glasgow | B13: Britney Spears | C13: 43713 | D13: 342000 | E13: Female | F13: Low | G13: Dancers | H13: Rainy | I13: =_xlfn.TRANSLATE(G13) -> Dancers
A14: Glasgow | B14: Britney Spears | C14: 44783 | D14: 720000 | E14: Female | F14: Low | G14: No backup | I14: =_xlfn.TRANSLATE(G14) -> No backup
A15: Manchester | B15: Britney Spears | C15: 44801 | D15: 574000 | E15: Male | F15: Low | G15: Intermission | I15: =_xlfn.TRANSLATE(G15) -> Intermission
A16: Paris | B16: Britney Spears | C16: 43385 | D16: 368000 | E16: Male | F16: High | G16: Dancers | I16: =_xlfn.TRANSLATE(G16) -> Dancers
A17: Glasgow | B17: Britney Spears | C17: 43831 | D17: 756000 | E17: Male | F17: Low | G17: Opening act | I17: =_xlfn.TRANSLATE(G17) -> Opening act
A18: Glasgow | B18: Britney Spears | C18: 44089 | D18: 320000 | E18: Male | F18: High | G18: No backup | I18: =_xlfn.TRANSLATE(G18) -> No backup

Sheet Quick wins
B2: {=_xlfn.TEXTAFTER(CELL("filename",B2),"]")} -> Quick wins
B11: Picture in cell
B13: Format painter
B15: Extra text

Sheet Arrays
B2: {=_xlfn.TEXTAFTER(CELL("filename",B2),"]")} -> Arrays | K2: Transpose
B4: Focus | C4: Sales | D4: Country | E4: Clients | F4: TRANSLATE | H4: Unique "Focus" | I4: SORT (Unique)
B5: Farming | C5: 30 | D5: China | E5: 12 | H5: {=_xlfn.UNIQUE(B5:B12)} -> Farming
B6: Farming | C6: 40 | D6: USA | E6: 20 | H6: Design
B7: Farming | C7: 25 | D7: Canada | E7: 30 | H7: Tourism
B8: Design | C8: 45 | D8: Mexico | E8: 7
B9: Tourism | C9: 35 | D9: Thailand | E9: 17 | H9: Count + unique | K9: VSTACK
B10: Farming | C10: 50 | D10: Cambodia | E10: 6
B11: Design | C11: 20 | D11: Malaysia | E11: 17
B12: Tourism | C12: 30 | D12: Laos | E12: 12
B14: Focus | C14: Sales | D14: Province | E14: Clients
B15: Farming | C15: 30 | D15: Indonesia | E15: 12
B16: Farming | C16: 40 | D16: Singapore | E16: 20
B17: Industry | C17: 25 | D17: Myanmar | E17: 30
D20: ARRAYTOTEXT
D21: TEXTJOIN

Sheet Hidden

Sheet Hidden (2)

Sheet Hidden (3)

Sheet Hidden (4)

Sheet Dashboard
B2: Concert Sales Dashboard
B4: Key Metrics
B6: Total Sales | C6: Average Sales | D6: Total Events | E6: Unique Cities
B7: =SUM('Copilot edit mode '!D4:D18) -> 5877000 | C7: =AVERAGE('Copilot edit mode '!D4:D18) -> 391800 | D7: =COUNTA('Copilot edit mode '!A4:A18) -> 15 | E7: =COUNTA(_xlfn.UNIQUE('Copilot edit mode '!A4:A18)) -> 4
B10: Sales by City | E10: Satisfaction Breakdown | H10: Gender Breakdown
B12: City | C12: Total Sales | E12: Level | F12: Count | H12: Gender | I12: Count
B13: Glasgow | C13: =SUMIF('Copilot edit mode '!A4:A18,B13,'Copilot edit mode '!D4:D18) -> 3454000 | E13: High | F13: =COUNTIF('Copilot edit mode '!F4:F18,E13) -> 4 | H13: Male | I13: =COUNTIF('Copilot edit mode '!E4:E18,H13) -> 8
B14: London | C14: =SUMIF('Copilot edit mode '!A4:A18,B14,'Copilot edit mode '!D4:D18) -> 1095000 | E14: Med | F14: =COUNTIF('Copilot edit mode '!F4:F18,E14) -> 3 | H14: Female | I14: =COUNTIF('Copilot edit mode '!E4:E18,H14) -> 7
B15: Manchester | C15: =SUMIF('Copilot edit mode '!A4:A18,B15,'Copilot edit mode '!D4:D18) -> 960000 | E15: Low | F15: =COUNTIF('Copilot edit mode '!F4:F18,E15) -> 8
B16: Paris | C16: =SUMIF('Copilot edit mode '!A4:A18,B16,'Copilot edit mode '!D4:D18) -> 368000

Sheet European Leaders
A1: Rank | B1: Country | C1: Head of State | D1: Role | E1: Gender | F1: Age (approx.) | G1: Email Address | H1: Marital Status
A2: 1 | B2: Germany | C2: Frank-Walter Steinmeier | D2: President | E2: Male | F2: 69 | G2: Not publicly available | H2: Married
A3: 2 | B3: France | C3: Emmanuel Macron | D3: President | E3: Male | F3: 47 | G3: Not publicly available | H3: Married
A4: 3 | B4: United Kingdom | C4: King Charles III | D4: Monarch | E4: Male | F4: 77 | G4: Not publicly available | H4: Married
A5: 4 | B5: Italy | C5: Sergio Mattarella | D5: President | E5: Male | F5: 83 | G5: Not publicly available | H5: Widowed
A6: 5 | B6: Spain | C6: King Felipe VI | D6: Monarch | E6: Male | F6: 57 | G6: Not publicly available | H6: Married
A7: 6 | B7: Poland | C7: Karol Nawrocki | D7: President | E7: Male | F7: 42 | G7: Not publicly available | H7: Married
A8: 7 | B8: Romania | C8: Nicușor Dan | D8: President | E8: Male | F8: 55 | G8: Not publicly available | H8: Married
A9: 8 | B9: Netherlands | C9: King Willem-Alexander | D9: Monarch | E9: Male | F9: 58 | G9: Not publicly available | H9: Married
A10: 9 | B10: Belgium | C10: King Philippe | D10: Monarch | E10: Male | F10: 65 | G10: Not publicly available | H10: Married
A11: 10 | B11: Greece | C11: Konstantinos Tasoulas | D11: President | E11: Male | F11: 68 | G11: Not publicly available | H11: Unknown
A12: 11 | B12: Czech Republic | C12: Petr Pavel | D12: President | E12: Male | F12: 63 | G12: Not publicly available | H12: Married
A13: 12 | B13: Portugal | C13: António José Seguro | D13: President | E13: Male | F13: 63 | G13: Not publicly available | H13: Married
... A21: 20 | B21: Ireland | C21: Catherine Connolly | D21: President | E21: Female | F21: 68 | G21: Not publicly available | H21: Unknown
A23: Note: Email addresses for heads of state are not publicly available for security reasons. Ages are approximate as of June 2026. Some marital status information is unavailable.
